BEGIN:VCALENDAR
VERSION:2.0
PRODID:-//My Community Diary//iCal Event//EN
CALSCALE:GREGORIAN
METHOD:PUBLISH
BEGIN:VEVENT
UID:5c1fb5c7-78c9-4175-bfef-51fd3b64e53f
DTSTAMP:20260424T164511Z
DTSTART:20240209T070000Z
DTEND:20240209T180000Z
SUMMARY:2024 Southern 80 Water Ski Race
DESCRIPTION:The Murray River is the original life blood of the Echuca-Moama region. All year round anglers\, campers\, water skiers\, house boating holidaymakers\, canoeists\, power boat enthusiasts and nature-lovers\, gravitate to Echuca-Moama as their preferred aquatic playground along the Murray River. \n \nThe Southern 80 Water Ski Race provides the vehicle to showcase and celebrate the essence of the region. Staged annually over 80 kilometres on the Murray River\, the Southern 80 attracts up to 400 boating enthusiasts from all around Australia\, New Zealand\, UK and USA as well as an estimated 100\,000 people to appreciate and immerse themselves in the stunning natural surrounds of the Murray to witness the stunning spectacle that is the Southern 80 event.\n \nThis history has evolved and is  ingrained in the culture and lifestyle of the region\, and visitors are drawn to Echuca-Moama all year around to participate in the event. The community involvement and support has seen the Southern 80 grow from a sporting event into a world class community festival\, putting Echuca/Moama on the map.\n\nEntry Cost\nAdult $25  - General Admission\nOne day pass $25.00. \nTwo day pass $35.00.\nKids Under 15 are free
LOCATION:\, Scenic Drive\, Echuca\, VIC 3564\, VIC\, 3564
RRULE:FREQ=DAILY;INTERVAL=1;UNTIL=20240212T000000Z
END:VEVENT
END:VCALENDAR
