BEGIN:VCALENDAR
VERSION:2.0
PRODID:-//My Community Diary//iCal Event//EN
CALSCALE:GREGORIAN
METHOD:PUBLISH
BEGIN:VEVENT
UID:d6ec5f4f-7312-4e5e-a096-53d8e1dc3a07
DTSTAMP:20260425T143626Z
DTSTART:20240202T000000Z
DTEND:20240202T235959Z
SUMMARY:OzCarFest
DESCRIPTION:After several years staging the Classic Holden Nationals event at various locations around Australia\, and after much deliberation\, they have decided to have a slight movement of the future direction of this event. Firstly\, changing the name of the event and secondly\, the inclusion of all Classic Australian built cars. The focus being on the first built in 1897 through to 1985 models including Ford\, Valiant and Holden.\n\nBefore finalising this decision\, many conversations were had with relevant clubs and individuals with similar interest in forming such an exciting event. After these discussions\, it has been decided that the home over the next three years will be Mansfield in the beautiful Victorian High Country. The event will be known as the Mansfield OzCarFest.\n\nThe Mansfield OzCarFest will celebrate all things that these Iconic Australian Classics represent with activities that will include touring events\, street displays\, period music\, mystery runs\, awards ceremony\, Show N Shine and more.\n\nThe Mansfield OzCarFest invites all owners of these classic Australian cars to join us in the celebrations. Those attending are not required to belong to a club or organisation to participate in this event.\n\nKeep up to date at the website and please voice your opinions and suggestions via the Facebook page.
LOCATION:\, High Street\, Mansfield\, VIC 3722\, VIC\, 3722
RRULE:FREQ=DAILY;INTERVAL=1;UNTIL=20240205T000000Z
END:VEVENT
END:VCALENDAR
