BEGIN:VCALENDAR
VERSION:2.0
PRODID:-//My Community Diary//iCal Event//EN
CALSCALE:GREGORIAN
METHOD:PUBLISH
BEGIN:VEVENT
UID:c6155f88-44b7-48c8-8e7b-18ff36e64a25
DTSTAMP:20260422T165702Z
DTSTART;VALUE=DATE:20240403
DTEND;VALUE=DATE:20240404
SUMMARY:St Marys Market
DESCRIPTION:St Marys Market features local artisan products\, fibre and leather work\, local fresh produce\, jams and pickles and a great range of bric-a-brac and collectibles.
LOCATION:\, 23 Main Street\, St Marys\, TAS 7215\, TAS\, 7215
RRULE:FREQ=DAILY;INTERVAL=1;UNTIL=20240405T000000Z
END:VEVENT
END:VCALENDAR
