BEGIN:VCALENDAR
VERSION:2.0
PRODID:-//My Community Diary//iCal Event//EN
CALSCALE:GREGORIAN
METHOD:PUBLISH
BEGIN:VEVENT
UID:1eb1286b-cd5c-4ea9-8eca-ffa3297d1b4d
DTSTAMP:20260424T160516Z
DTSTART:20240702T000000Z
DTEND:20240702T235959Z
SUMMARY:Birdsville Big Red Bash
DESCRIPTION:Have the experience of a lifetime at the world’s most remote music festival\, the Birdsville Big Red Bash in the heart of Australia’s outback! The three-day festival returns at the Big Red desert dune near Birdsville\, Queensland.\n\nEntry Cost\nAdult $729  - Adult - $689\n5-17 years - $49\n0-4 years - $19
LOCATION:\, Big Red Road\, Birdsville\, QLD 4482\, QLD\, 4482
RRULE:FREQ=DAILY;INTERVAL=1;UNTIL=20240705T000000Z
END:VEVENT
END:VCALENDAR
