BEGIN:VCALENDAR
VERSION:2.0
PRODID:-//My Community Diary//iCal Event//EN
CALSCALE:GREGORIAN
METHOD:PUBLISH
BEGIN:VEVENT
UID:4a4921e0-39e3-4e6a-8833-e9dbef9b83ca
DTSTAMP:20260424T155836Z
DTSTART:20201220T080000Z
DTEND:20201220T170000Z
SUMMARY:Dietetics - Babinda
DESCRIPTION:Ingrid Hagne T/As Diabetes and Health Solutions at Mamu Health Service Limited - Babinda. Please confirm precise times with the service provider.
LOCATION:\, 91 Munro Street\, Babinda\, QLD\, 4861\, QLD\, 4861
END:VEVENT
END:VCALENDAR
