BEGIN:VCALENDAR
VERSION:2.0
PRODID:-//My Community Diary//iCal Event//EN
CALSCALE:GREGORIAN
METHOD:PUBLISH
BEGIN:VEVENT
UID:5838b958-96d5-4ebc-804c-de56008ab123
DTSTAMP:20260424T160512Z
DTSTART:20220807T080000Z
DTEND:20220807T130000Z
SUMMARY:Springfield Markets
DESCRIPTION:Celebrate Sunday with Springfield Markets.\n\nCome for a morning treat\, splash in the new lagoon\, browse their local talented artists and crafters stalls\, shop for home wares and enjoy dinner with family and friends from food trucks and multicultural stalls.  \n \nRobelle Domain Parkland has plenty of open spaces to eat and play. Don't forget your picnic blanket and your swimmers.\n\nFirst Sunday of each month 8am to 2pm.
LOCATION:\, Education City Drive\, Springfield Central\, QLD 4300\, QLD\, 4300
RRULE:FREQ=MONTHLY;INTERVAL=1;BYDAY=3MO;UNTIL=20240708T000000Z
END:VEVENT
END:VCALENDAR
