BEGIN:VCALENDAR
VERSION:2.0
PRODID:-//My Community Diary//iCal Event//EN
CALSCALE:GREGORIAN
METHOD:PUBLISH
BEGIN:VEVENT
UID:e5c127c3-ba7d-4648-b1e9-c8d94d6b605d
DTSTAMP:20260421T224132Z
DTSTART;VALUE=DATE:20261128
DTEND;VALUE=DATE:20261129
SUMMARY:Nowra Showground Indoor Market
DESCRIPTION:Enjoy the beautiful location\, plenty of trees and parking\, great views\, doggie playgrounds\, walking trails\, and of course\, the many market stalls inside the Nowra Showground Pavilion.\n\nThe Nowra Showground Indoor Market boasts local stalls with plenty of handmade and homegrown items including plants\, clothing\, toys\, pet accessories\, knitting and crochet crafts\, art\, books\, jewellery\, cards and paper crafts\, woodwork\, jams and much more. \n\nYo Mama Kitchen will be serving you delicious breakfast options while WTF Donuts will be there for your coffee and sweet treats. \nShoalhaven Local Markets & Committee is delighted to be hosting this market on the fourth Saturday of each month with big thanks to Shoalhaven Council for the support.
LOCATION:\, Nowra\, NSW 2541\, NSW\, 2541
RRULE:FREQ=DAILY;INTERVAL=1;UNTIL=20261130T000000Z
END:VEVENT
END:VCALENDAR
