BEGIN:VCALENDAR
VERSION:2.0
PRODID:-//My Community Diary//iCal Event//EN
CALSCALE:GREGORIAN
METHOD:PUBLISH
BEGIN:VEVENT
UID:e3bd3bdd-ec98-4d4a-822c-02cdca79195e
DTSTAMP:20260424T164948Z
DTSTART:20240308T090000Z
DTEND:20240308T200000Z
SUMMARY:Bathurst Autofest
DESCRIPTION:The Mountain is set to Rock again when the Bathurst Autofest returns to the World renowned Mount Panorama Racing Circuit\, Bathurst NSW during March. \n\nThe Bathurst Autofest was again a huge hit this season and with the 2024 event mostly sold out we have now extended this event out to 3 days and 2 nights and this proves that the Bathurst Autofest is only going to get bigger but remember that they have said that they have a cut off of just 350 driving event entrants so get yourself booked in and submit your entry form early.\n\nSo forget the hustle and bustle of the City and get yourself trackside to take in the sights and sounds as these weekend warriors unleash onto Australia’s best venue for a weekend of Horsepower\, Action and Carnage where only the Strong Survive.\n\nIf you would like to go onto the mailing list for the event or would like information on becoming an Event Partner\, simply email them your contact details.\n\nEntry Cost\nAdult $40  - All public Admission prices will be available from the gate from 1pm Thursday March 10th and admission fees and event times\, program and other related information available on website.
LOCATION:\, Pit Straight\, Mount Panorama\, NSW 2795\, NSW\, 2795
RRULE:FREQ=DAILY;INTERVAL=1;UNTIL=20240311T000000Z
END:VEVENT
END:VCALENDAR
