BEGIN:VCALENDAR
VERSION:2.0
PRODID:-//My Community Diary//iCal Event//EN
CALSCALE:GREGORIAN
METHOD:PUBLISH
BEGIN:VEVENT
UID:c4be1e27-44cb-40d4-b578-fad0015dd740
DTSTAMP:20260421T222218Z
DTSTART;TZID=AUS Eastern Standard Time:20230202T103000
DTEND;TZID=AUS Eastern Standard Time:20230202T120000
SUMMARY:Beginners World Dance Class
DESCRIPTION:Dancing to wonderful music from countries around the world!\n\nTravel the world of exotic music and dance. Suitable for all ages\, and all levels of dance experience\, Beginner classes offer a wonderful pathway into dance cultures across the globe. We are a unique and welcoming community providing physical and social well-being through world dance. No partner necessary.\n
LOCATION:Folk Dance Canberra\, Folk Dance Canberra Hall\, Hackett Community Centre\, 114 Maitland St\, Hackett ACT 2602\, ACT
RRULE:FREQ=WEEKLY;INTERVAL=1;BYDAY=TH
END:VEVENT
END:VCALENDAR
