BEGIN:VCALENDAR
VERSION:2.0
PRODID:-//My Community Diary//iCal Event//EN
CALSCALE:GREGORIAN
METHOD:PUBLISH
BEGIN:VEVENT
UID:0bb8989d-9717-44d7-bcc9-e1bd05a7f0ce
DTSTAMP:20260424T155902Z
DTSTART:20170625T100000Z
DTEND:20170625T123000Z
SUMMARY:Christian Worship Service
DESCRIPTION:A 2 hour worship session with the following:\n* Praise & Worship\n* Prayer for the sick/Healing sessions\n* Prophetic Sessions\n* Teaching of the Word\n* Children's Church\n* Fellowship\n\nFree counselling is usually available as per needs basis after the formal service 
LOCATION:The Charis Church\, Waterloo Bay Leisure Centre\, 241 Tingal Rd\, Wynnum QLD 4178\, QLD
RRULE:FREQ=WEEKLY;INTERVAL=1;BYDAY=SU
END:VEVENT
END:VCALENDAR
