BEGIN:VCALENDAR
VERSION:2.0
PRODID:-//My Community Diary//iCal Event//EN
CALSCALE:GREGORIAN
METHOD:PUBLISH
BEGIN:VEVENT
UID:5dae6d3c-feaa-4f76-9be3-06895831d6bc
DTSTAMP:20260422T001617Z
DTSTART;TZID=AUS Eastern Standard Time:20190612T180000
DTEND;TZID=AUS Eastern Standard Time:20190612T190000
SUMMARY:Nicotine Anonymous meets every week
DESCRIPTION:Nicotine Anonymous is a fellowship of men and women helping each other to live our lives free of nicotine. We share our experience\, strength and hope with each other so that we may be free from this powerful addiction. The only requirement for membership is a desire to stop using nicotine. There are no dues or fees for Nicotine Anonymous membership\; we are self-supporting through our own contributions.\n
LOCATION:Nicotine Anonymous\, No street address\, Holt ACT 2615\, ACT\, 2615
RRULE:FREQ=WEEKLY;INTERVAL=1;BYDAY=WE
END:VEVENT
END:VCALENDAR
