BEGIN:VCALENDAR
VERSION:2.0
PRODID:-//My Community Diary//iCal Event//EN
CALSCALE:GREGORIAN
METHOD:PUBLISH
BEGIN:VEVENT
UID:849c4654-2533-4c38-a296-e37b7fcd4505
DTSTAMP:20260422T033020Z
DTSTART;TZID=AUS Eastern Standard Time:20240416T193000
DTEND;TZID=AUS Eastern Standard Time:20240416T203000
SUMMARY:Monthly Meeting
DESCRIPTION:Wagga Wilderness Walkers monthly meeting is held on third Tuesday&nbsp\; 7:30 pm of the month at ARCC \, Tarcutta Street Wagga. New members welcome.\n
LOCATION:ARCC HALL\, 131 Tarcutta St\, Wagga Wagga NSW 2650\, Australia\, NSW\, 2650
RRULE:FREQ=MONTHLY;INTERVAL=1;BYDAY=3MO
END:VEVENT
END:VCALENDAR
