BEGIN:VCALENDAR
VERSION:2.0
PRODID:-//My Community Diary//iCal Event//EN
CALSCALE:GREGORIAN
METHOD:PUBLISH
BEGIN:VEVENT
UID:cafd3830-e6e3-427f-8298-d9f6e53a5a9a
DTSTAMP:20260422T002711Z
DTSTART;TZID=E. Australia Standard Time:20250118T090000
DTEND;TZID=E. Australia Standard Time:20250118T100000
SUMMARY:The Jungle Body Burn Konga
DESCRIPTION:The Jungle Body is an Australian-based fitness and exercise company offering a range of unique\, sweat-inducing and beat-driven workouts.\n\nKONGA® is the all-in-one workout that will torch calories\, tone up your bod\, make your soul smile &amp\; inject your body with an endorphin overload. It is an easy-to-follow fusion of Boxing\, Cardio\, Dance and Sculpting set to the hottest beats.\n\nBURN!® is a transformative dumbbell &amp\; resistance band workout that combines 1.5kg–2kg dumbbells with high repetition movements &amp\; a carefully curated playlist to inspire the mind\, body &amp\; soul.\n\nNB: We alternate Konga and Burn Tracks for this session. No dumbbells to bring? All good...a variety of sizes are available for your use at the Venue. Alternatively you can do all Burn tracks weights free.\n
LOCATION:St. Thomas More's Parish Hall\, 71A Ramsay Street\, South Toowoomba QLD\, Australia\, QLD\, 4350
RRULE:FREQ=WEEKLY;INTERVAL=1;BYDAY=SA
END:VEVENT
END:VCALENDAR
