BEGIN:VCALENDAR
VERSION:2.0
PRODID:-//My Community Diary//iCal Event//EN
CALSCALE:GREGORIAN
METHOD:PUBLISH
BEGIN:VEVENT
UID:65c2d523-2c44-4df5-bd95-79aa41142a10
DTSTAMP:20260422T083629Z
DTSTART;TZID=E. Australia Standard Time:20250123T081500
DTEND;TZID=E. Australia Standard Time:20250123T101500
SUMMARY:The Jungle Body Burn Konga Low Impact
DESCRIPTION:KONGA® BURN!® Low Impact is an easy-to-follow lower intensity version of the original Konga\, using music solely from the 60's to the 90's. Low impact is a much gentler workout suitable for the active older adult and true beginners\, or for those that just simply love music from this era. Burn is added to the class for bone health\, coordination and balance.\n
LOCATION:Highfields Sport & Recreation Park Soccer Clubhouse\, Cabarlah Park Road\, Highfields QLD\, Australia\, QLD\, 4352
RRULE:FREQ=WEEKLY;INTERVAL=1;BYDAY=TH
END:VEVENT
END:VCALENDAR
