BEGIN:VCALENDAR
VERSION:2.0
PRODID:-//My Community Diary//iCal Event//EN
CALSCALE:GREGORIAN
METHOD:PUBLISH
BEGIN:VEVENT
UID:c46fffa4-1e20-4c7f-9a45-16dcdb670fc9
DTSTAMP:20260422T000520Z
DTSTART;TZID=E. Australia Standard Time:20250120T181500
DTEND;TZID=E. Australia Standard Time:20250120T191500
SUMMARY:Zumba 
DESCRIPTION:Grooving to the beats of salsa\, flamenco\, and merengue music plus upbeat world rhythms\, this Latin-inspired dance workout feels more like a dance party than a workout. Zumba is a mix of low and high intensity moves giving you an interval-style\, calorie burning dance fitness workout. Each track is pre-choreographed\, but you don’t need to be a great dancer to feel welcome in this class. With the tag line\, “Ditch the Workout\, Join the Party\,” the class&nbsp\;emphasis is&nbsp\;moving to the music and having an awesome time\, no rhythm required.\n
LOCATION:St. John's Lutheran Church Hall\, 431 Bridge St\, Wilsonton QLD 4350\, Australia\, QLD\, 4350
RRULE:FREQ=WEEKLY;INTERVAL=1;BYDAY=MO
END:VEVENT
END:VCALENDAR
