BEGIN:VCALENDAR
VERSION:2.0
PRODID:-//My Community Diary//iCal Event//EN
CALSCALE:GREGORIAN
METHOD:PUBLISH
BEGIN:VEVENT
UID:7f2243be-c0b8-444e-a6ac-a2d615be8ac7
DTSTAMP:20260422T071810Z
DTSTART;TZID=E. Australia Standard Time:20250122T093000
DTEND;TZID=E. Australia Standard Time:20250122T103000
SUMMARY:BollyX LIT
DESCRIPTION:BollyX LIT (Low Intensity ~ Low Impact ~ High Swag) is designed for various special populations\, including those deconditioned or new to exercise\, injured or post-rehab individuals\, pre and post natal\, active older adult\, beginners\, or simply those that prefer low impact exercise. LIT is a safe and effective total body workout that offers the same energy and swag as the original BollyX format but without the high impact movements.\n
LOCATION:Highfields Sport & Recreation Park Soccer Clubhouse\, Cabarlah Park Road\, Highfields QLD\, Australia\, QLD\, 4352
RRULE:FREQ=WEEKLY;INTERVAL=1;BYDAY=WE
END:VEVENT
END:VCALENDAR
