BEGIN:VCALENDAR
VERSION:2.0
PRODID:-//My Community Diary//iCal Event//EN
CALSCALE:GREGORIAN
METHOD:PUBLISH
BEGIN:VEVENT
UID:5e3f3a0b-9736-4ea7-89ca-6cb2c12c421d
DTSTAMP:20260422T033629Z
DTSTART;TZID=E. Australia Standard Time:20250122T073000
DTEND;TZID=E. Australia Standard Time:20250122T083000
SUMMARY:The Jungle Body Burn Konga Low Impact
DESCRIPTION:KONGA®&nbsp\;BURN!®&nbsp\;Low Impact is an easy-to-follow lower intensity version of the original Konga\, using music solely from the 60's to the 90's. Low impact is a much gentler workout suitable for the active older adult and true beginners\, or for those that just simply love music from this era. Burn is added to the class for bone health\, coordination and balance.\n
LOCATION:St. Paul's Lutheran Church Hall\, 26 Phillip Street\, South Toowoomba Toowoomba\, QLD 4350\, Australia\, QLD\, 4350
RRULE:FREQ=WEEKLY;INTERVAL=1;BYDAY=WE
END:VEVENT
END:VCALENDAR
