BEGIN:VCALENDAR
VERSION:2.0
PRODID:-//My Community Diary//iCal Event//EN
CALSCALE:GREGORIAN
METHOD:PUBLISH
BEGIN:VEVENT
UID:21170a9e-beb8-4774-8607-1c0078cf99dd
DTSTAMP:20260421T222858Z
DTSTART;TZID=E. Australia Standard Time:20250121T183000
DTEND;TZID=E. Australia Standard Time:20250121T191500
SUMMARY:The Jungle Body Get Low
DESCRIPTION:GETLOW® is&nbsp\;a beat-driven low impact workout designed to ignite your mind\, move your body &amp\; improve your wellbeing. This 45 minute LIT (low intensity training) full body workout uses boxing\, dance\, dumbbells\, light cardio &amp\; seriously good music from all decades to transform your mind &amp\; body. NB: We only have one weights track in Get Low. No dumbbells to bring? All good...a variety of sizes are available for your use at the Venue.\n
LOCATION:St. Luke's Anglican Church Hall\, Herries Street & Ruthven Street\, Toowoomba City Toowoomba\, QLD\, Australia\, QLD\, 4350
RRULE:FREQ=WEEKLY;INTERVAL=1;BYDAY=TU
END:VEVENT
END:VCALENDAR
