BEGIN:VCALENDAR
VERSION:2.0
PRODID:-//My Community Diary//iCal Event//EN
CALSCALE:GREGORIAN
METHOD:PUBLISH
BEGIN:VEVENT
UID:e9b6cd3a-ad89-444f-8e41-2a0db1c2a78b
DTSTAMP:20260421T222217Z
DTSTART;TZID=E. Australia Standard Time:20250120T090000
DTEND;TZID=E. Australia Standard Time:20250120T100000
SUMMARY:Zumba Gold
DESCRIPTION:Zumba Gold is a slower-paced\, lower intensity version of a regular Zumba class.\n\nIt is perfect for beginners\, older adults\, and those who are rehabilitating an injury.\n\nThe class uses simple steps and rhythms to create a workout that is fun and easy to follow. It uses low-impact Latin dance moves such as Merengue\, Salsa\, Reggaeton and Cumbia as your core rhythms\, and a variety of other international rhythms. The music will&nbsp\;get your heart rate up and help you burn calories. The class also helps improve balance and coordination\, which can be especially important for seniors. Zumba Gold is a great way to start your day because it wakes up your body and gets your blood flowing.\n
LOCATION:St. Thomas More's Parish Hall\, 71A Ramsay Street\, South Toowoomba QLD\, Australia\, QLD\, 4350
RRULE:FREQ=WEEKLY;INTERVAL=1;BYDAY=MO
END:VEVENT
END:VCALENDAR
