BEGIN:VCALENDAR
VERSION:2.0
PRODID:-//My Community Diary//iCal Event//EN
CALSCALE:GREGORIAN
METHOD:PUBLISH
BEGIN:VEVENT
UID:164aebb2-2214-4c2d-a3a8-5bf9d817662a
DTSTAMP:20260421T205350Z
DTSTART;TZID=AUS Eastern Standard Time:20230905T100000
DTEND;TZID=AUS Eastern Standard Time:20230905T113000
SUMMARY:Happy Hands Art Time
DESCRIPTION:A small playgroup for children ages 1-5 focussing on art &amp\; activites surrounding a different theme each week. Runs during school term only. The mess stays with us &amp\; the kids have a ball!\n
LOCATION:Wahroonga SDA Church\, 183 Fox Valley Road\, Wahroonga NSW 2076\, NSW\, 2076
RRULE:FREQ=WEEKLY;INTERVAL=10;BYDAY=TU
END:VEVENT
END:VCALENDAR
