BEGIN:VCALENDAR
VERSION:2.0
PRODID:-//My Community Diary//iCal Event//EN
CALSCALE:GREGORIAN
METHOD:PUBLISH
BEGIN:VEVENT
UID:0c33cc8c-c070-4478-9007-b1712e75367c
DTSTAMP:20260422T034500Z
DTSTART;TZID=AUS Eastern Standard Time:20230907T080000
DTEND;TZID=AUS Eastern Standard Time:20230907T130000
SUMMARY:"Our Place" 
DESCRIPTION:Port Macquarie Hastings Homelessness Collective runs a fortnightly hub to support and assist those in the community doing it tough. The hub is located at St Agnes Youth Hub 140 Horton street Port Macquarie. We offer Housing Support\, Mental Health Support\, Debt/Fine support plus shower/ laundry facilities\, free pantry items and clothing.&nbsp\;\n
LOCATION:Port Macquarie Youth Hub\, 140 Horton Street\, Port Macquarie NSW 2444\, NSW\, 2444
RRULE:FREQ=DAILY;INTERVAL=14
END:VEVENT
END:VCALENDAR
