BEGIN:VCALENDAR
VERSION:2.0
PRODID:-//My Community Diary//iCal Event//EN
CALSCALE:GREGORIAN
METHOD:PUBLISH
BEGIN:VEVENT
UID:690a7c55-5dc7-4323-85c6-be2b1e090d0f
DTSTAMP:20260422T033750Z
DTSTART;TZID=AUS Eastern Standard Time:20241016T180000
DTEND;TZID=AUS Eastern Standard Time:20241016T190000
SUMMARY:Monthly Meeting
DESCRIPTION:Monthly Meeting\n\nCommunity support is needed and regular presentations by other services to our area.\n\n3rd Wednesday of each month held at the Tuncurry Beach Bowling Club at 6pm.\n
LOCATION:Tuncurry Beach Bowling Club\, 21 Parkes St\, Tuncurry NSW 2428\, Australia\, NSW\, 2428
RRULE:FREQ=MONTHLY;INTERVAL=1;BYDAY=3MO
END:VEVENT
END:VCALENDAR
