BEGIN:VCALENDAR
VERSION:2.0
PRODID:-//My Community Diary//iCal Event//EN
CALSCALE:GREGORIAN
METHOD:PUBLISH
BEGIN:VEVENT
UID:beb3175d-c506-452b-ab60-95d84dfa44e1
DTSTAMP:20260422T000519Z
DTSTART;TZID=AUS Eastern Standard Time:20230815T093000
DTEND;TZID=AUS Eastern Standard Time:20230815T103000
SUMMARY:Stretch & Yawn
DESCRIPTION:Want to stretch but not like dogs\, cats and cows? Get your human on with gentle stretches and simple motions\, aiming to lengthen and mobilise your body to glide into your day with more physical freedom and ease of movement.\n\nStretch &amp\; Yawn is for every day people who would like to be guided through stretches and gentle movement in a non-judgmental environment.&nbsp\;&nbsp\;\n\nTeacher Tim\, will guide you in 60 mins of body freedom\n\n&nbsp\;\n
LOCATION:Welcome Space\, 7 Red Head Road\, Red Head NSW 2430\, NSW\, 2430
RRULE:FREQ=WEEKLY;INTERVAL=1;BYDAY=TU
END:VEVENT
END:VCALENDAR
