BEGIN:VCALENDAR
VERSION:2.0
PRODID:-//My Community Diary//iCal Event//EN
CALSCALE:GREGORIAN
METHOD:PUBLISH
BEGIN:VEVENT
UID:c36da933-80f8-435e-b28e-a6cc2cc7a793
DTSTAMP:20260421T205458Z
DTSTART;TZID=AUS Eastern Standard Time:20230809T180000
DTEND;TZID=AUS Eastern Standard Time:20230809T190000
SUMMARY:Dance Groove
DESCRIPTION:A guided dance class for adults designed to energise\, invigorate and empower your body\, whilst cultivating joy and community through movement. From sensuous undulations to blood pumping energetic moves\, build strength and physical finesse into your everyday life. No dance experience necessary!\n
LOCATION:Welcome Space\, 7 Red Head Road\, Red Head NSW 2430\, NSW\, 2430
RRULE:FREQ=WEEKLY;INTERVAL=1;BYDAY=WE
END:VEVENT
END:VCALENDAR
