BEGIN:VCALENDAR
VERSION:2.0
PRODID:-//My Community Diary//iCal Event//EN
CALSCALE:GREGORIAN
METHOD:PUBLISH
BEGIN:VEVENT
UID:4a13e110-a3f8-41cb-b9cd-d4afbe285638
DTSTAMP:20260421T205503Z
DTSTART;TZID=AUS Eastern Standard Time:20230811T180000
DTEND;TZID=AUS Eastern Standard Time:20230811T190000
SUMMARY:Sound Bath
DESCRIPTION:Journey into the abyss and drift through a parallel reality\, sinking timelessly towards deep\, euphoric rest.\n\nSound baths emanate a wide band of frequencies and are known to provide stress relief and body repair\, including cellular regeneration.&nbsp\;Participants lay or sit with eyes closed\, while a selection of ancient healing instruments are played\, encouraging the listener to embrace an introspective experience.&nbsp\;\n
LOCATION:Welcome Space\, 7 Red Head Road\, Red Head NSW 2430\, NSW\, 2430
RRULE:FREQ=WEEKLY;INTERVAL=1;BYDAY=FR
END:VEVENT
END:VCALENDAR
