BEGIN:VCALENDAR
VERSION:2.0
PRODID:-//My Community Diary//iCal Event//EN
CALSCALE:GREGORIAN
METHOD:PUBLISH
BEGIN:VEVENT
UID:b4842c6b-1c68-4ba4-b43c-9d7449eb8f6d
DTSTAMP:20260422T000520Z
DTSTART;TZID=AUS Eastern Standard Time:20230820T130000
DTEND;TZID=AUS Eastern Standard Time:20230820T160000
SUMMARY:Bricks ‘n’ Banter Gathering
DESCRIPTION:Come along and build your latest projects\, whilst chatting with others at our monthly casual gathering. We will have competitions and the latest LEGO® news during the afternoon\, so come and join us for this fun and enjoyable activity.&nbsp\;\n
LOCATION:WynLUG\, 1-21 Cheetham Street\, Point Cook VIC 3030\, VIC\, 3030
RRULE:FREQ=MONTHLY;INTERVAL=1;BYDAY=3MO
END:VEVENT
END:VCALENDAR
