BEGIN:VCALENDAR
VERSION:2.0
PRODID:-//My Community Diary//iCal Event//EN
CALSCALE:GREGORIAN
METHOD:PUBLISH
BEGIN:VEVENT
UID:cd392333-71f3-4d9b-9550-fc4a8d0762a9
DTSTAMP:20260424T164511Z
DTSTART:20220417T000000Z
DTEND:20220417T235959Z
SUMMARY:Talbot Farmers Market
DESCRIPTION:On the third Sunday every month\, Talbot becomes a vibrant market place. Soak up the atmosphere as you wander the beautiful heritage streetscape bustling with market stalls and taste the central goldfields region.\n\nExplore an evolving display of regional produce stalls\, offering seasonal fruit and organic vegetables\, fresh breads and baked goods\, local wines\, gins and craft beers\, gourmet oils\, olives\, nuts and an array of other delicious delicacies.\n\nIn true country farmers' market style you will also find lambs and chooks\, stockfeed\, cut flowers\, plants and seedlings\, and lots more.\n\nThe Talbot Farmers Market provides visitors with an authentic farmers market experience with a warming and welcoming community spirit.\n\nSample fabulous food and wine\, enjoy a coffee and a tasty bite to eat while listening to local artists playing live music in the street.\n\nPick up a ticket for your chance to win the 'Barrow Raffle' overflowing with wonderful produce kindly donated by stall holders.\n\nRemember to bring your shopping bags or grab a souvenir calico bag from the information marquee.\n\nTalbot Farmers Market is dog friendly so please feel welcome to bring you pooches that must be on short leashes please.\n\nTalbot is located 40 minutes north of Ballarat or 90 minutes from Melbourne's Westgate Bridge. For public transport options please visit the PTV website.
LOCATION:\, Scandinavian Crescent\, Talbot\, VIC 3371\, VIC\, 3371
RRULE:FREQ=MONTHLY;INTERVAL=1;BYDAY=3MO;UNTIL=20240722T000000Z
END:VEVENT
END:VCALENDAR
