BEGIN:VCALENDAR
VERSION:2.0
PRODID:-//My Community Diary//iCal Event//EN
CALSCALE:GREGORIAN
METHOD:PUBLISH
BEGIN:VEVENT
UID:6cd23e39-f14d-4b25-86f3-c14a1e93f51a
DTSTAMP:20260424T164342Z
DTSTART:20201205T000000Z
DTEND:20201205T235959Z
SUMMARY:Murrabit Country Market
DESCRIPTION:The Murrabit Country Market commenced in 1977. Held on the first Saturday of every month (and Easter Saturday) an astonishing transformation takes place as up to 100 stalls open for business. Wares from fresh home-grown produce\, woodenware\, recycled iron\, plants\, craft\, bric-a-brac\, hardware\, tools\, fishing gear and clothing are there to delight the purchaser.\n \nAromas of freshly cooked barbecues and hot food fill the air and morning tea at the hall\, consisting of cappuccinos\, scones\, sandwiches and sumptuous cakes is not to be missed. Live entertainment adds to the relaxed atmosphere and popular entertainers perform at each of the markets.\n \nAfter the market\, enjoy a two minute drive to the Murray River and try some fishing for the much sought after Murray Cod. Or view the Murrabit bridge\, the first all-steel bridge to be built over the Murray River between Victoria and New South Wales. It was constructed as a dual road and rail bridge in 1926\; serving as a vital interstate link as part of the former Kerang-Murrabit-Stony Crossing railway.
LOCATION:\, Gonn Avenue\, Murrabit\, VIC 3579\, VIC\, 3579
RRULE:FREQ=DAILY;INTERVAL=1;UNTIL=20240602T000000Z
END:VEVENT
END:VCALENDAR
