BEGIN:VCALENDAR
VERSION:2.0
PRODID:-//My Community Diary//iCal Event//EN
CALSCALE:GREGORIAN
METHOD:PUBLISH
BEGIN:VEVENT
UID:17e650de-cb33-46dd-9e5d-8b2d07641015
DTSTAMP:20260424T164533Z
DTSTART:20210822T000000Z
DTEND:20210822T235959Z
SUMMARY:Kinglake Market
DESCRIPTION:The Kinglake Market has a variety of stalls\, a great scenic country location and something for all ages. \n\nYou will find fresh fruit and vegetables\, chutneys\, jams\, relishes\, soaps\, candles\, hot and cold food\, both sweet and savoury\, wines\, crafts\, a variety of handmade giftware\, plants\, quilts\, cheese\, meat\, breads\, great coffee and much more. Children's activities vary every month.\n\nThey do all the research to ensure that only quality products are available for you.\n\nHeld at the Kinglake Community Centre\, 436 Whittlesea-Kinglake Road\, Kinglake\, there are stalls indoor\, under verandahs and outside.  Ample parking is available at the Kinglake Football grounds\, just across the road and the venue is close to Kinglake National Park\, with its walks and waterfalls\, Bollygum Children's Park and only 5 minutes from the Kinglake Township with supermarket\, bakery\, cafes\, pub and more.. March and December dates may vary due to public holidays. \n\nVisit the website for details.
LOCATION:\, 1 Exton Road\, Kinglake Central\, VIC 3757\, VIC\, 3757
RRULE:FREQ=DAILY;INTERVAL=1;UNTIL=20240226T000000Z
END:VEVENT
END:VCALENDAR
