BEGIN:VCALENDAR
VERSION:2.0
PRODID:-//My Community Diary//iCal Event//EN
CALSCALE:GREGORIAN
METHOD:PUBLISH
BEGIN:VEVENT
UID:b14317eb-bfd3-4c51-bba8-48e7d184958d
DTSTAMP:20260422T002831Z
DTSTART;TZID=E. Australia Standard Time:20230602T180000
DTEND;TZID=E. Australia Standard Time:20230602T210000
SUMMARY:Social Board Games
DESCRIPTION:Every Friday&nbsp\;6pm till late is Social Board Game Night. $5 entry.&nbsp\; Bring your own favourites or try some new games.&nbsp\; Snacks\, tea/coffee available.&nbsp\; Eftpos available.&nbsp\; Suitable for 16 year olds and over.\n
LOCATION:Miss Mj's Creativity Centre\, Shop 2 & 3\, 10522 New England Highway Highfields QLD 4352\, QLD\, 4352
RRULE:FREQ=WEEKLY;INTERVAL=1;BYDAY=FR
END:VEVENT
END:VCALENDAR
