BEGIN:VCALENDAR
VERSION:2.0
PRODID:-//My Community Diary//iCal Event//EN
CALSCALE:GREGORIAN
METHOD:PUBLISH
BEGIN:VEVENT
UID:1353cee3-91a8-4ad6-8fa2-a3e29ec7b43c
DTSTAMP:20260424T164532Z
DTSTART:20210227T000000Z
DTEND:20210227T235959Z
SUMMARY:Hamilton HIRL Farmers and Craft Market
DESCRIPTION:The Hamilton Farmers' and Craft Market showcases local produce and local designers on 11 acres of beautiful grounds.\n\nEnjoy a sausage sizzle or even the pizza oven may be fired up\, barista coffee while you browse the stalls\, showcasing local wine\, local produce including fresh vegetables\, seasonal fruits\, jams\, cakes\, bread\, pasties\, oils\, meats and many types of crafts - jewellery\, clothing\, woodwork\, candles and more. Live music features at each market\, adding to the atmosphere.\n\nThe Hamilton Farmers and Craft Market is a monthly market held on the last Saturday of each month. From 9:00am to midday. \n\nSee the website for full market information
LOCATION:\, 333 North Boundary Road\, Hamilton\, VIC 3300\, VIC\, 3300
RRULE:FREQ=DAILY;INTERVAL=1;UNTIL=20240901T000000Z
END:VEVENT
END:VCALENDAR
