BEGIN:VCALENDAR
VERSION:2.0
PRODID:-//My Community Diary//iCal Event//EN
CALSCALE:GREGORIAN
METHOD:PUBLISH
BEGIN:VEVENT
UID:d9c66137-bd71-4805-a971-1ddf84062438
DTSTAMP:20260424T164532Z
DTSTART:20220123T090000Z
DTEND:20220123T140000Z
SUMMARY:Gembrook Market
DESCRIPTION:Come down to the Gembrook Market and see a wide range of mostly locally grown and made craft and produce for sale. The Market is on from 9:00am to 2:00pm every 4th Sunday except for December.\n\nFind everything from crafts\, jewellery\, plants to soaps and other handmade goods and foods. Tantalise your taste buds with freshly brewed coffee\, a range of sweet and savoury foods. Often a community barbecue operated by Gembrook Community groups is available. \n\nStallholder and volunteer inquiries welcome.\n\n
LOCATION:\, 4 Gembrook Road\, Gembrook\, VIC 3783\, VIC\, 3783
RRULE:FREQ=DAILY;INTERVAL=1;UNTIL=20241028T000000Z
END:VEVENT
END:VCALENDAR
