BEGIN:VCALENDAR
VERSION:2.0
PRODID:-//My Community Diary//iCal Event//EN
CALSCALE:GREGORIAN
METHOD:PUBLISH
BEGIN:VEVENT
UID:94b4bb00-de81-4c8f-ba12-07292bb2dcc4
DTSTAMP:20260421T222858Z
DTSTART;TZID=W. Australia Standard Time:20230506T090000
DTEND;TZID=W. Australia Standard Time:20230506T110000
SUMMARY:Provide First Aid HLTAID011
DESCRIPTION:\n	Express Blended 2&nbsp\;hours face to face training + online learning&nbsp\;\n	Degree Qualified Instructors\n	FAST &amp\; EASY E-LEARNING ASSESSMENT\n	Student &nbsp\;Support\n	Same Day Certificate (T&amp\;C)\n	HLTAID011 Provide First Aid includes CPR\, Basic Emergency Life Support and Provide First Aid\n	Multiple Locations and flexible hours – Morning or evening\, Weekdays or weekends\n	Best Value First Courses in Perth\n\n
LOCATION:First Aid CertifiedSubibao\, 295 Roberts Road\, Subiaco WA 6008\, WA\, 6008
RRULE:FREQ=WEEKLY;BYDAY=MO,TU,WE,TH,FR
END:VEVENT
END:VCALENDAR
