BEGIN:VCALENDAR
VERSION:2.0
PRODID:-//My Community Diary//iCal Event//EN
CALSCALE:GREGORIAN
METHOD:PUBLISH
BEGIN:VEVENT
UID:40390cf1-8618-4ec0-a443-d88537a52e24
DTSTAMP:20260421T222237Z
DTSTART;TZID=AUS Eastern Standard Time:20230503T190000
DTEND;TZID=AUS Eastern Standard Time:20230503T220000
SUMMARY:Tough Guy Book Club - Point Cook Chapter
DESCRIPTION:All chapters meet at&nbsp\;7pm on the first Wednesday of the month. Each chapter has a corresponding event on our&nbsp\;Tough Guy Book Club Facebook page.&nbsp\;You can let us know if you are interested or able to attend by selecting&nbsp\;‘Going.’&nbsp\;If you don't see your chapter of interest right away\, click the 'See More' option for additional listings. Have questions? Add a comment on your local event and a member of the club will get back to you about that chapters specific location or link for meeting online.\n\nEvents are updated every month. Please note\, there are NO MEETINGS IN JANUARY. Feb through Dec only.&nbsp\;\n\nFor further information about chapters and meetings\, contact&nbsp\;info@toughguybookclub.com. If there isn't a chapter near you\, maybe you want to&nbsp\;start your own?\n
LOCATION:\, Hopheads Point Cook\, Adelphi Boulevard\, Point Cook VIC\, Australia\, VIC\, 3030
RRULE:FREQ=MONTHLY;INTERVAL=1;BYDAY=3MO
END:VEVENT
END:VCALENDAR
