BEGIN:VCALENDAR
VERSION:2.0
PRODID:-//My Community Diary//iCal Event//EN
CALSCALE:GREGORIAN
METHOD:PUBLISH
BEGIN:VEVENT
UID:771280ed-de8e-432d-a8ba-cac6a3923a00
DTSTAMP:20260424T164411Z
DTSTART:20221204T090000Z
DTEND:20221204T153000Z
SUMMARY:Camperdown Rotary Market
DESCRIPTION:Held on the historic avenue of Camperdown's Manifold Street\, the Camperdown Rotary Market is held on the first Sunday of each month. The market offers opportunity to browse and buy home made goods including cakes\, produce\, plants\, clothing and novelties.\n\nTop this off with the opportunity to climb the Gothic style clock tower to inspect the clock mechanism and enjoy the panoramic views of our historic town before heading to the heritage centre to learn more about the area and its fascinating history.
LOCATION:\, Manifold Street\, Camperdown\, VIC 3260\, VIC\, 3260
RRULE:FREQ=MONTHLY;INTERVAL=1;BYDAY=3MO;UNTIL=20240108T000000Z
END:VEVENT
END:VCALENDAR
