BEGIN:VCALENDAR
VERSION:2.0
PRODID:-//My Community Diary//iCal Event//EN
CALSCALE:GREGORIAN
METHOD:PUBLISH
BEGIN:VEVENT
UID:593931aa-a858-4a18-852a-570d5d21ba37
DTSTAMP:20260424T164511Z
DTSTART:20210417T090000Z
DTEND:20210417T130000Z
SUMMARY:Alexandra Market
DESCRIPTION:The Alexandra Market runs from September to May on the second Saturday of each month from 9:00am to 1:00pm. in the grounds of the former railway station in Station Street\, Alexandra.\n\nFree entry and parking. Open to all types of stalls\, such as food stalls\, fruit and vegetables\, crafts\, plants and herbs\, jewellery and entertainment.\n\nEntry Cost\nAll tickets $2  - Children under 8 free
LOCATION:\, 7 Station Street\, Alexandra\, VIC 3714\, VIC\, 3714
RRULE:FREQ=DAILY;INTERVAL=1;UNTIL=20240414T000000Z
END:VEVENT
END:VCALENDAR
