BEGIN:VCALENDAR
VERSION:2.0
PRODID:-//My Community Diary//iCal Event//EN
CALSCALE:GREGORIAN
METHOD:PUBLISH
BEGIN:VEVENT
UID:68c8ff64-1a18-4199-8b18-f8af3ccc7f7f
DTSTAMP:20260422T000641Z
DTSTART;TZID=E. Australia Standard Time:20230308T093000
DTEND;TZID=E. Australia Standard Time:20230308T101500
SUMMARY:Seniors Fitness Class
DESCRIPTION:Fitness Class for Seniors\n
LOCATION:Rockhampton Senior Citizens Club\, 201 Bolsover St\, Rockhampton QLD 4700\, QLD\, 4700
RRULE:FREQ=WEEKLY;INTERVAL=1;BYDAY=WE
END:VEVENT
END:VCALENDAR
