BEGIN:VCALENDAR
VERSION:2.0
PRODID:-//My Community Diary//iCal Event//EN
CALSCALE:GREGORIAN
METHOD:PUBLISH
BEGIN:VEVENT
UID:f91b0730-737b-4339-9ab9-bec6d1fa7092
DTSTAMP:20260422T002847Z
DTSTART;TZID=AUS Eastern Standard Time:20230215T183000
DTEND;TZID=AUS Eastern Standard Time:20230215T220000
SUMMARY:Wagga Evening View Monthly Dinner Meeting
DESCRIPTION:Wagga View Monthly Dinner meeting for further information contact Pam Cattell on the email supplied\n
LOCATION:Wagga RSL Club\, 30 Dobbs Street\, Wagga Wagga NSW\, Australia\, NSW\, 2650
RRULE:FREQ=MONTHLY;INTERVAL=1;BYDAY=3MO
END:VEVENT
END:VCALENDAR
