BEGIN:VCALENDAR
VERSION:2.0
PRODID:-//My Community Diary//iCal Event//EN
CALSCALE:GREGORIAN
METHOD:PUBLISH
BEGIN:VEVENT
UID:43069eca-e2b5-469a-81b6-c03dca8c9918
DTSTAMP:20260421T224239Z
DTSTART;TZID=AUS Eastern Standard Time:20230107T080000
DTEND;TZID=AUS Eastern Standard Time:20230107T093000
SUMMARY:Paddling resumes
DESCRIPTION:Paddling resumes.\n
LOCATION:\, Grevillea Park\, Morshead Drive\, Barton ACT\, Australia\, ACT\, 2600
RRULE:FREQ=WEEKLY;INTERVAL=1;BYDAY=SA
END:VEVENT
END:VCALENDAR
