BEGIN:VCALENDAR
VERSION:2.0
PRODID:-//My Community Diary//iCal Event//EN
CALSCALE:GREGORIAN
METHOD:PUBLISH
BEGIN:VEVENT
UID:9af45438-3a1d-4a1a-b325-0f3b13517e31
DTSTAMP:20260422T014624Z
DTSTART;TZID=E. Australia Standard Time:20221123T083000
DTEND;TZID=E. Australia Standard Time:20221123T120000
SUMMARY:Speech Pathology - Injune/Bymount 
DESCRIPTION:Speech Pathologists assist adults and children who have difficulty communicating and/or swallowing due to child developmental delays\, stroke\, brain injuries\, intellectual disability\, cerebral\npalsy\, dementia and hearing loss\, as well as other problems that affect speech and language.\n&nbsp\;\n\nOur local Speech Pathologist diagnoses and provides therapy for conditions relating to:\n• Speech - the oral form of communication and the production of sounds and articulation\n• Language - a whole system of words and symbols – written\, spoken or expressed with\ngestures and body language – that is used to communicate meaning\n• Voice - the basic sound for speech and singing. People may experience changes to their\nvoice e.g. sounding hoarse\, husky\, being too loud or too quiet\n• Fluency – This includes stuttering and cluttering\n• Multimodal Communication – Communication using sign\, communication boards and other\ndevices\n• Swallowing – swallowing food\, fluid and saliva management\n\nSpeech Pathology service delivery options:\n\n• Face-to-face in clinic\n• Home visits (where required)\n• Kindy and School visits\n• Aged-care facility visits\n\n• Telehealth\n
LOCATION:\, Fifth Avenue\, Injune QLD\, Australia\, QLD\, 4454
RRULE:FREQ=WEEKLY;INTERVAL=2;BYDAY=WE
END:VEVENT
END:VCALENDAR
