BEGIN:VCALENDAR
VERSION:2.0
PRODID:-//My Community Diary//iCal Event//EN
CALSCALE:GREGORIAN
METHOD:PUBLISH
BEGIN:VEVENT
UID:b7ab27e0-d1f1-4d04-9411-e52efd80341e
DTSTAMP:20260424T160638Z
DTSTART:20240420T180000Z
DTEND:20240420T202900Z
SUMMARY:St Georges Day Medieval Dinner
DESCRIPTION:The Tale of St George. You surely cannot sacrifice a princess to the ferocious Dragon! \n\nGeorge thought to himself and then went on a mission to protect her and the village from the Dragon.\n\nAn event you can witness the story and choose to believe in Dragons.\n\nAfter the battle has taken place all will join in a feast not only to celebrate victory but to St George himself with live entertainment provided by Belswagger Morris Dancers\n\nTwo-course Banquet dinner with platters of meat and vegetables and Trifle pudding. Dietary requirements in advance\, vegans and vegetarians also catered for\n\nEntry Cost\nAdult $65  - Two course medieval banquet dinner with platters of roasted meat and vegetables with trifle dessert.\nChild $25  - under 12\, chicken fingers and chips\, ice cream for dessert
LOCATION:\, 7 Elevation Drive\, Wongawallan\, QLD 4210\, QLD\, 4210
END:VEVENT
END:VCALENDAR
