BEGIN:VCALENDAR
VERSION:2.0
PRODID:-//My Community Diary//iCal Event//EN
CALSCALE:GREGORIAN
METHOD:PUBLISH
BEGIN:VEVENT
UID:a3a69973-db10-4f70-950f-20412283ebf4
DTSTAMP:20260423T113036Z
DTSTART;TZID=AUS Eastern Standard Time:20221025T193000
DTEND;TZID=AUS Eastern Standard Time:20221025T210000
SUMMARY:Maitland's True Crime Tour
DESCRIPTION:Maitland's True Crime Tour\n\nTake a Walk on the Dark Side...\n\nDon't be afraid to scratch beneath the surface of the sleepy town of Maitland and unveil its dark and twisted past...\n\n\n	Enjoy a leisurely guided walking tour retracing the steps of the city's most infamous crimes of yesteryear.\n	Travel back to a tough world of brawlers\, smoking guns and ladies of the night&nbsp\;that has long since been forgotten.\n	Relive a time that proves truth is far stranger than fiction as you explore Maitland's murkiest moments.\n	Great photo opportunities along the High St and the old forgotten laneways\n	Book your ticket now for a unique investigation into a dark and crime-ridden history.\n\n\nSmall towns hold the biggest secrets\, and Maitland\, with its fair share of haunted streets nestled amongst its glorious old buildings\, is no exception.\n\nMaitland is an old town with an incredible history full of True Crime stories that time insisted were lost to the dustbin of history...until now.\n\nMeets at the seated area in front of the Maitland Train Station (Station Street side)\n\n...stories the city tried to forget...\n
LOCATION:Maitland Station\, Maitland Station\, Maitland NSW\, Australia\, NSW\, 2320
RRULE:FREQ=WEEKLY;INTERVAL=1;BYDAY=FR,SA
END:VEVENT
END:VCALENDAR
