BEGIN:VCALENDAR
VERSION:2.0
PRODID:-//My Community Diary//iCal Event//EN
CALSCALE:GREGORIAN
METHOD:PUBLISH
BEGIN:VEVENT
UID:698f8c1c-f6fa-4ed2-abb0-78fd91d22f31
DTSTAMP:20260422T033617Z
DTSTART;TZID=AUS Eastern Standard Time:20221027T173000
DTEND;TZID=AUS Eastern Standard Time:20221027T193000
SUMMARY:Creative Souls Collective
DESCRIPTION:Creative Souls Collective - A&nbsp\;Creative Community Monthly Gathering to Create &amp\; Connect\n\nJoin us for a free social Creative Souls Catch-Up on the last Thursday of every month except December when we have a special early event!\n\nEach month there is a different creative prompt for those who want it\, you can find the prompts in the Facebook event.\n\nIf you dont have anything to work on\, never fear just come along and connect with other creative souls.\n\nAll are welcome\, our home location of Sunset Framing &amp\; Gallery is happy to provide tea and coffee as usual but if you would like anything else to drink bring it along and a plate or packet of nibbles to share if you wish.\n\nOur hosts have opened up the main art gallery floor for our catch ups while the upstairs space is having a "do over"\, street parking is available out the front or if need be there is the rear carpark available for after hour events.\n\nWhat happens:\n1) You arrive\, mingle &amp\; grab a cuppa.\n2) Have a play with this months theme\, or pull out something you have already created for the months prompt and chat with your piers about what you have created and look/chat their works too.\n3) Chat\, connect &amp\; have fun with other creatives.\n\nTea and coffee is supplied by our hosts and sponsors Sunset Gallery\, we also encourage you to bring along an item based on the months prompt to use as a still life item on the night if you want.\n\nStreet parking is available out the front or if need be there is the rear carpark available for after hour events.\n\nFor further details please call 0265834100\n
LOCATION:Sunset Framing & Gallery\, 25 Central Road\, Port Macquarie NSW 2444\, NSW\, 2444
RRULE:FREQ=MONTHLY;INTERVAL=1;BYDAY=3MO
END:VEVENT
END:VCALENDAR
