BEGIN:VCALENDAR
VERSION:2.0
PRODID:-//My Community Diary//iCal Event//EN
CALSCALE:GREGORIAN
METHOD:PUBLISH
BEGIN:VEVENT
UID:bdab5cc1-317a-4d6b-a758-59b1e63dfe11
DTSTAMP:20260424T160714Z
DTSTART:20240328T010000Z
DTEND:20240328T230000Z
SUMMARY:Griffith Easter Party
DESCRIPTION:Griffith Easter Party is a celebration of fun and festivities for the whole family over the Easter Long Weekend. Celebrating the end of Griffith’s vintage\, this is a chance to get out and enjoy their wine and food through a great program of events.
LOCATION:\, Griffith\, NSW 2680\, NSW\, 2680
RRULE:FREQ=DAILY;INTERVAL=1;UNTIL=20240402T000000Z
END:VEVENT
END:VCALENDAR
