BEGIN:VCALENDAR
VERSION:2.0
PRODID:-//My Community Diary//iCal Event//EN
CALSCALE:GREGORIAN
METHOD:PUBLISH
BEGIN:VEVENT
UID:d9cbf08a-e3ab-4d50-b5b2-5d21eb50007a
DTSTAMP:20260422T000549Z
DTSTART;TZID=E. Australia Standard Time:20220903T193000
DTEND;TZID=E. Australia Standard Time:20220903T233000
SUMMARY:MS Dance - Toowoomba
DESCRIPTION:Old Time Dancing &nbsp\;at Seniors Citizens Club\, Victoria Street\, Toowoomba. &nbsp\;Raising money for people in this are with MS.\n
LOCATION:Multiple Sclerosis Dance Hall Committee\, Senior Citizens Club\, 39 Victoria Street Toowoomba City QLD 4350\, QLD\, 4350
RRULE:FREQ=MONTHLY;INTERVAL=1;BYDAY=3MO
END:VEVENT
END:VCALENDAR
