BEGIN:VCALENDAR
VERSION:2.0
PRODID:-//My Community Diary//iCal Event//EN
CALSCALE:GREGORIAN
METHOD:PUBLISH
BEGIN:VEVENT
UID:6b01dd09-b09e-43be-97a0-7a9bfdbd1ce4
DTSTAMP:20260422T000608Z
DTSTART;TZID=E. Australia Standard Time:20220808T090000
DTEND;TZID=E. Australia Standard Time:20220808T100000
SUMMARY:Coffee with a Cop
DESCRIPTION:Come and have a coffee and a chat with your local Police.&nbsp\;&nbsp\;\n
LOCATION:Police-Citizens Youth Club (PCYC) - Maranoa\, 34 George Street\, Roma QLD 4455\, QLD\, 4455
RRULE:FREQ=MONTHLY;INTERVAL=1;BYDAY=3MO
END:VEVENT
END:VCALENDAR
