BEGIN:VCALENDAR
VERSION:2.0
PRODID:-//My Community Diary//iCal Event//EN
CALSCALE:GREGORIAN
METHOD:PUBLISH
BEGIN:VEVENT
UID:c3a6ddee-ece3-4fde-9399-4f83555c41b2
DTSTAMP:20260421T205420Z
DTSTART;TZID=E. Australia Standard Time:20220802T053000
DTEND;TZID=E. Australia Standard Time:20220802T063000
SUMMARY:Fitness classes 
DESCRIPTION:Join a participating PCYC Queensland Gym today &amp\; gain ALL NEW Activ8 Group Fitness at no additional charge! Meet your tribe when you take part in an assortment of Activ8 Group Fitness classes! From fusion\, cardiovascular\, strength\, boxing\, core\, recovery and even tailored 50 years+ workouts\, there is a different style of group fitness to suit everyone! Each 45 minute workout has been inspired by the location of one of PCYC Queensland’s clubs\, across the state. All Activ8 Group Fitness classes are run by qualified Gym+Fitness Trainers\, so you know our workouts are designed to achieve the maximum effect for your health and fitness goals!\n
LOCATION:Police-Citizens Youth Club (PCYC) - Maranoa\, 34 George Street\, Roma QLD 4455\, QLD\, 4455
RRULE:FREQ=WEEKLY;INTERVAL=1;BYDAY=MO,TU,WE,TH
END:VEVENT
END:VCALENDAR
