BEGIN:VCALENDAR
VERSION:2.0
PRODID:-//My Community Diary//iCal Event//EN
CALSCALE:GREGORIAN
METHOD:PUBLISH
BEGIN:VEVENT
UID:3ba342fa-7193-48a1-a765-be103f761bc6
DTSTAMP:20260422T015551Z
DTSTART;TZID=E. Australia Standard Time:20220802T080000
DTEND;TZID=E. Australia Standard Time:20220802T100000
SUMMARY:PCYC Seniors Badminton 
DESCRIPTION:Badminton&nbsp\;is a&nbsp\;racquet sport&nbsp\;played using&nbsp\;racquets&nbsp\;to hit a&nbsp\;shuttlecock&nbsp\;across a&nbsp\;net. Although it may be played with larger teams\, the most common forms of the game are "singles" (with one player per side) and "doubles" (with two players per side). Badminton is often played as a casual outdoor activity in a yard or on a beach\; formal games are played on a rectangular indoor court. Points are scored by striking the shuttlecock with the racquet and landing it within the opposing side's half of the court.\n\nEach side may only strike the shuttlecock once before it passes over the net. Play ends once the shuttlecock has struck the floor or if a fault has been called by the umpire\, service judge\, or (in their absence) the opposing side.\n
LOCATION:Police-Citizens Youth Club (PCYC) - Maranoa\, 34 George Street\, Roma QLD 4455\, QLD\, 4455
RRULE:FREQ=WEEKLY;INTERVAL=1;BYDAY=WE
END:VEVENT
END:VCALENDAR
