BEGIN:VCALENDAR
VERSION:2.0
PRODID:-//My Community Diary//iCal Event//EN
CALSCALE:GREGORIAN
METHOD:PUBLISH
BEGIN:VEVENT
UID:e516e11f-68f7-41d2-b4ed-bd117c7a3cad
DTSTAMP:20260422T000658Z
DTSTART;TZID=E. Australia Standard Time:20220802T180000
DTEND;TZID=E. Australia Standard Time:20220802T200000
SUMMARY:PCYC Drop Inn Volleyball
DESCRIPTION:Volleyball&nbsp\;is a&nbsp\;team sport&nbsp\;in which two teams of six players are separated by a net. Each team tries to score points by grounding a ball on the other team's court under organized rules.&nbsp\;It has been a part of the official program of the&nbsp\;Summer Olympic Games&nbsp\;since&nbsp\;Tokyo 1964.&nbsp\;Beach volleyball&nbsp\;was introduced to the programme at the&nbsp\;Atlanta 1996. The adapted version of volleyball at the&nbsp\;Summer Paralympic Games&nbsp\;is&nbsp\;sitting volleyball.\n\nThe&nbsp\;complete set of rules&nbsp\;is extensive\,&nbsp\;but play essentially proceeds as follows: a player on one of the teams begins a 'rally' by serving the ball (tossing or releasing it and then hitting it with a hand or arm)\, from behind the back boundary line of the court\, over the net\, and into the receiving team's court.[3]&nbsp\;The receiving team must not let the ball be grounded within their court. The team may touch the ball up to three times to return the ball to the other side of the court\, but individual players may not touch the ball twice consecutively.[3]&nbsp\;Typically\, the first two touches are used to set up for an attack. An attack is an attempt to direct the ball back over the net in such a way that the team receiving the ball is unable to pass the ball and continue the rally\, thus\, losing the point. The team that wins the rally is awarded a point and serves the ball to start the next rally\n
LOCATION:Police-Citizens Youth Club (PCYC) - Maranoa\, 34 George Street\, Roma QLD 4455\, QLD\, 4455
RRULE:FREQ=WEEKLY;INTERVAL=1;BYDAY=MO
END:VEVENT
END:VCALENDAR
