BEGIN:VCALENDAR
VERSION:2.0
PRODID:-//My Community Diary//iCal Event//EN
CALSCALE:GREGORIAN
METHOD:PUBLISH
BEGIN:VEVENT
UID:fb17d87a-f61b-4c95-a5ec-7549614285ed
DTSTAMP:20260422T000549Z
DTSTART;TZID=AUS Eastern Standard Time:20220818T190000
DTEND;TZID=AUS Eastern Standard Time:20220818T203000
SUMMARY:General Meeting
DESCRIPTION:Monthly General meeting 7pm start followed by a light supper.&nbsp\; Come along to find out what is happening and add your ideas\, bring a plate to share.\n
LOCATION:Burrell Creek Youth And Community Association \, 5348 The Bucketts Way\, Burrell Creek NSW 2429\, NSW\, 2429
RRULE:FREQ=MONTHLY;INTERVAL=1;BYDAY=3MO
END:VEVENT
END:VCALENDAR
